BEGIN:VCALENDAR
VERSION:2.0
CALSCALE:GREGORIAN
METHOD:PUBLISH
X-WR-TIMEZONE:Australia/Sydney
BEGIN:VTIMEZONE
TZID:Australia/Sydney
BEGIN:STANDARD
TZNAME:AEST
DTSTART:19700101T000000
TZOFFSETFROM:+1100
TZOFFSETTO:+1000
END:STANDARD
END:VTIMEZONE
BEGIN:VEVENT
DTSTART;TZID=Australia/Sydney:20180314T083000
DTEND;TZID=Australia/Sydney:20180314T163000
DTSTAMP:20260425T024853
UID:639
SUMMARY:2018 Student Leadership Conference
DESCRIPTION:Our School Captains attend this conference at the Melbourne Exhibition Centre, to meet other school captains and participate in forums relevant to school student leadership.
SEQUENCE:0
STATUS:CONFIRMED
TRANSP:OPAQUE
END:VEVENT
END:VCALENDAR