BEGIN:VCALENDAR
VERSION:2.0
CALSCALE:GREGORIAN
METHOD:PUBLISH
X-WR-TIMEZONE:Australia/Sydney
BEGIN:VTIMEZONE
TZID:Australia/Sydney
BEGIN:STANDARD
TZNAME:AEST
DTSTART:19700101T000000
TZOFFSETFROM:+1100
TZOFFSETTO:+1000
END:STANDARD
END:VTIMEZONE
BEGIN:VEVENT
DTSTART;TZID=Australia/Sydney:20180319T190000
DTEND;TZID=Australia/Sydney:20180319T203000
DTSTAMP:20260425T023409
UID:629
SUMMARY:Resilience Project Parent Information Night
DESCRIPTION:Join us to learn about this exciting, innovative and highly-successful student wellbeing program, which CHPS has run throughout the school for the past two years.&amp;nbsp; More details will follow in our weekly Newsletters.
SEQUENCE:0
STATUS:CONFIRMED
TRANSP:OPAQUE
END:VEVENT
END:VCALENDAR