BEGIN:VCALENDAR
VERSION:2.0
CALSCALE:GREGORIAN
METHOD:PUBLISH
X-WR-TIMEZONE:Australia/Sydney
BEGIN:VTIMEZONE
TZID:Australia/Sydney
BEGIN:STANDARD
TZNAME:AEST
DTSTART:19700101T000000
TZOFFSETFROM:+1100
TZOFFSETTO:+1000
END:STANDARD
END:VTIMEZONE
BEGIN:VEVENT
DTSTART;TZID=Australia/Sydney:20180324T150000
DTEND;TZID=Australia/Sydney:20180324T210000
DTSTAMP:20260425T023140
UID:628
SUMMARY:30th Anniversary School Twilight Fair
DESCRIPTION:Celebrating CHPS&#039; 30th Anniversary, the Twilight Fair will feature stalls, rides, entertainment - fun for all the family!&amp;nbsp; Capped off with a fireworks extravaganza!
SEQUENCE:0
STATUS:CONFIRMED
TRANSP:OPAQUE
END:VEVENT
END:VCALENDAR