BEGIN:VCALENDAR
VERSION:2.0
CALSCALE:GREGORIAN
METHOD:PUBLISH
X-WR-TIMEZONE:Australia/Sydney
BEGIN:VTIMEZONE
TZID:Australia/Sydney
BEGIN:STANDARD
TZNAME:AEST
DTSTART:19700101T000000
TZOFFSETFROM:+1100
TZOFFSETTO:+1000
END:STANDARD
END:VTIMEZONE
BEGIN:VEVENT
DTSTART;TZID=Australia/Sydney:20180215T090000
DTEND;TZID=Australia/Sydney:20180215T130000
DTSTAMP:20260425T042657
UID:624
SUMMARY:School Photos
DESCRIPTION:Individual and class photos for all students.&amp;nbsp; Please make sure your students are dressed in correct school uniform and have their Photo Order Envelopes with them (this will be distributed to each student during the second week at school).
SEQUENCE:0
STATUS:CONFIRMED
TRANSP:OPAQUE
END:VEVENT
END:VCALENDAR